BEGIN:VCALENDAR
VERSION:2.0
PRODID:-//jEvents 2.0 for Joomla//EN
CALSCALE:GREGORIAN
METHOD:PUBLISH
BEGIN:VTIMEZONE
TZID:Europe/Berlin
BEGIN:STANDARD
DTSTART:20231029T020000
RDATE:20240331T030000
TZOFFSETFROM:+0200
TZOFFSETTO:+0100
TZNAME:Europe/Berlin CET
END:STANDARD
BEGIN:STANDARD
DTSTART:20241027T020000
RDATE:20250330T030000
TZOFFSETFROM:+0200
TZOFFSETTO:+0100
TZNAME:Europe/Berlin CET
END:STANDARD
BEGIN:STANDARD
DTSTART:20251026T020000
RDATE:20260329T030000
TZOFFSETFROM:+0200
TZOFFSETTO:+0100
TZNAME:Europe/Berlin CET
END:STANDARD
BEGIN:STANDARD
DTSTART:20261025T020000
RDATE:20270328T030000
TZOFFSETFROM:+0200
TZOFFSETTO:+0100
TZNAME:Europe/Berlin CET
END:STANDARD
BEGIN:STANDARD
DTSTART:20271031T020000
RDATE:20280326T030000
TZOFFSETFROM:+0200
TZOFFSETTO:+0100
TZNAME:Europe/Berlin CET
END:STANDARD
BEGIN:STANDARD
DTSTART:20281029T020000
RDATE:20290325T030000
TZOFFSETFROM:+0200
TZOFFSETTO:+0100
TZNAME:Europe/Berlin CET
END:STANDARD
BEGIN:DAYLIGHT
DTSTART:20230515T193000
RDATE:20231029T020000
TZOFFSETFROM:+0100
TZOFFSETTO:+0200
TZNAME:Europe/Berlin CEST
END:DAYLIGHT
BEGIN:DAYLIGHT
DTSTART:20240331T030000
RDATE:20241027T020000
TZOFFSETFROM:+0100
TZOFFSETTO:+0200
TZNAME:Europe/Berlin CEST
END:DAYLIGHT
BEGIN:DAYLIGHT
DTSTART:20250330T030000
RDATE:20251026T020000
TZOFFSETFROM:+0100
TZOFFSETTO:+0200
TZNAME:Europe/Berlin CEST
END:DAYLIGHT
BEGIN:DAYLIGHT
DTSTART:20260329T030000
RDATE:20261025T020000
TZOFFSETFROM:+0100
TZOFFSETTO:+0200
TZNAME:Europe/Berlin CEST
END:DAYLIGHT
BEGIN:DAYLIGHT
DTSTART:20270328T030000
RDATE:20271031T020000
TZOFFSETFROM:+0100
TZOFFSETTO:+0200
TZNAME:Europe/Berlin CEST
END:DAYLIGHT
BEGIN:DAYLIGHT
DTSTART:20280326T030000
RDATE:20281029T020000
TZOFFSETFROM:+0100
TZOFFSETTO:+0200
TZNAME:Europe/Berlin CEST
END:DAYLIGHT
END:VTIMEZONE
BEGIN:VEVENT
UID:0804bd07abcd78b67e39175ccab7e456
CATEGORIES:öffentlich
CREATED:20240515T085718
SUMMARY:„Eine große Ungleichheit im Land“
LOCATION:DGB-Haus Paradiesgarten
DESCRIPTION:„Eine große Ungleichheit im Land“\nEin Gespräch darüber, ob und wie das deu
 tsche Steuersystem reformierbar wäre.\nReferent: Karl-Martin Hentschel     
                     \n \nKarl-Martin Hentschel ist ein deutscher Politiker.
  Er war von 2000 bis 2005 und 2006 bis 2009 Vorsitzender der Fraktion Bündn
 is 90/Die Grünen im Landtag von Schleswig-Holstein. Seitdem lebt er als fre
 ier Autor in der Nähe von Kiel. Seit 2014 ist er Mitglied im Bundesvorstand
  des Vereins Mehr Demokratie e. V. Wikipedia (https://de.wikipedia.org/wiki
 /Karl-Martin_Hentschel)\n
X-ALT-DESC;FMTTYPE=text/html:<p>„Eine große Ungleichheit im Land“<br />Ein Gespräch darüber, ob und wie 
 das deutsche Steuersystem reformierbar wäre.</p><p>Referent:&nbsp;Karl-Mart
 in Hentschel&nbsp; &nbsp; &nbsp; &nbsp; &nbsp; &nbsp; &nbsp; &nbsp; &nbsp; 
 &nbsp; &nbsp; &nbsp; &nbsp;</p><p>&nbsp;</p><p>Karl-Martin Hentschel ist ei
 n deutscher Politiker. Er war von 2000 bis 2005 und 2006 bis 2009 Vorsitzen
 der der Fraktion Bündnis 90/Die Grünen im Landtag von Schleswig-Holstein. S
 eitdem lebt er als freier Autor in der Nähe von Kiel. Seit 2014 ist er Mitg
 lied im Bundesvorstand des Vereins Mehr Demokratie e. V.&nbsp;<a href="http
 s://de.wikipedia.org/wiki/Karl-Martin_Hentschel" class="ruhjFe NJLBac fl" d
 ata-ved="2ahUKEwiV8cjmiY-GAxXSRvEDHbwaD84QmhN6BAgXEAI">Wikipedia</a></p>
X-EXTRAINFO:Veranstalter sind Attac Regensburg,\nEvangelisches Bildungswerk Regensburg,
  Soziale Initiativen Regensburg, Verdi Ortsverein Regensburg, Forum gegen A
 rmut Regensburg
DTSTAMP:20260420T122939
DTSTART;TZID=Europe/Berlin:20240515T193000
SEQUENCE:0
TRANSP:OPAQUE
END:VEVENT
END:VCALENDAR